BEGIN:VCALENDAR
VERSION:2.0
PRODID:icalendar-ruby
CALSCALE:GREGORIAN
METHOD:PUBLISH
BEGIN:VEVENT
DTSTAMP:20260423T102823Z
UID:10-898259@thedoorpl.com
DTSTART:20260925T020000Z
DTEND:20260925T030000Z
CLASS:PUBLIC
CREATED:20260422T194253
DESCRIPTION:Thursday Midweek Service
LAST-MODIFIED:20260422T194253
LOCATION:3272 Rosecrans St. San Diego\, CA 92139
SUMMARY:Thursday Midweek Service
URL;VALUE=URI:https://thedoorpl.com/events/thursday-midweek-service/2026-09
 -24
END:VEVENT
END:VCALENDAR
