BEGIN:VCALENDAR
VERSION:2.0
PRODID:icalendar-ruby
CALSCALE:GREGORIAN
METHOD:PUBLISH
BEGIN:VEVENT
DTSTAMP:20260423T152220Z
UID:10-898700@thedoorpl.com
DTSTART:20261016T020000Z
DTEND:20261016T030000Z
CLASS:PUBLIC
CREATED:20260423T080554
DESCRIPTION:Thursday Midweek Service
LAST-MODIFIED:20260423T080554
LOCATION:3272 Rosecrans St. San Diego\, CA 92139
SUMMARY:Thursday Midweek Service
URL;VALUE=URI:https://thedoorpl.com/events/thursday-midweek-service/2026-10
 -15
END:VEVENT
END:VCALENDAR
